BEGIN:VCALENDAR
VERSION:2.0
PRODID:-//UNLV Geoscience - ECPv6.2.9//NONSGML v1.0//EN
CALSCALE:GREGORIAN
METHOD:PUBLISH
X-ORIGINAL-URL:https://geoscience.unlv.edu
X-WR-CALDESC:Events for UNLV Geoscience
REFRESH-INTERVAL;VALUE=DURATION:PT1H
X-Robots-Tag:noindex
X-PUBLISHED-TTL:PT1H
BEGIN:VTIMEZONE
TZID:America/Los_Angeles
BEGIN:DAYLIGHT
TZOFFSETFROM:-0800
TZOFFSETTO:-0700
TZNAME:PDT
DTSTART:20210314T100000
END:DAYLIGHT
BEGIN:STANDARD
TZOFFSETFROM:-0700
TZOFFSETTO:-0800
TZNAME:PST
DTSTART:20211107T090000
END:STANDARD
END:VTIMEZONE
BEGIN:VEVENT
DTSTART;TZID=America/Los_Angeles:20210414T160000
DTEND;TZID=America/Los_Angeles:20210414T170000
DTSTAMP:20260419T231244
CREATED:20210414T215446Z
LAST-MODIFIED:20210414T215851Z
UID:4028-1618416000-1618419600@geoscience.unlv.edu
SUMMARY:2021 Spring Seminar Series.  Jay Dixon\, Kinross Gold Corporation
DESCRIPTION:Groundwater Management Issues in Southern Nevada’s Lower White River Flow System: Navigating Conjunctive Management in Combined Groundwater Basins while Protecting Endangered Species
URL:https://geoscience.unlv.edu/event/groundwater-management-issues-in-southern-nevadas-lower-white-river-flow-system-navigating-conjunctive-management-in-combined-groundwater-basins-while-protecting-endangered-species/
END:VEVENT
BEGIN:VEVENT
DTSTART;TZID=America/Los_Angeles:20210421T160000
DTEND;TZID=America/Los_Angeles:20210421T173000
DTSTAMP:20260419T231244
CREATED:20210422T170642Z
LAST-MODIFIED:20210422T170710Z
UID:4042-1619020800-1619026200@geoscience.unlv.edu
SUMMARY:2021 Spring Seminar Series - Women in Science- Short talks featuring the student members of the UNLV AWG chapter
DESCRIPTION:Laura Dye & Inga Homfeld – Tree Rings and Climate \nKristen Rode – Using Diamonds to Study Earth’s Interior \nSuzie Lederer – Water Resources and Mining in the Southwestern US
URL:https://geoscience.unlv.edu/event/women-in-science-short-talks-featuring-the-student-members-of-the-unlv-awg-chapter/
END:VEVENT
BEGIN:VEVENT
DTSTART;TZID=America/Los_Angeles:20210428T160000
DTEND;TZID=America/Los_Angeles:20210428T170000
DTSTAMP:20260419T231244
CREATED:20210422T171149Z
LAST-MODIFIED:20210428T171455Z
UID:4045-1619625600-1619629200@geoscience.unlv.edu
SUMMARY:2021 Spring Seminar Series - Kevin Konrad
DESCRIPTION:Testing the Supernova Impact Hypothesis Using 3He and 60Fe in Marine Sediments \nKevin Konrad \nUniversity of Nevada Las Vegas \n 
URL:https://geoscience.unlv.edu/event/2021-spring-seminar-series-kevin-konrad/
END:VEVENT
BEGIN:VEVENT
DTSTART;VALUE=DATE:20210429
DTEND;VALUE=DATE:20210430
DTSTAMP:20260419T231244
CREATED:20210422T165838Z
LAST-MODIFIED:20210422T165838Z
UID:4038-1619654400-1619740799@geoscience.unlv.edu
SUMMARY:2021 UNLV Geosymposium!
DESCRIPTION:10:00 AM – Sponsor presentations \n12:00 PM – Interview Sign-ups \n12:30 PM – Student Interviews
URL:https://geoscience.unlv.edu/event/2021-unlv-geosymposium/
END:VEVENT
BEGIN:VEVENT
DTSTART;VALUE=DATE:20210430
DTEND;VALUE=DATE:20210501
DTSTAMP:20260419T231244
CREATED:20210422T165934Z
LAST-MODIFIED:20210422T165934Z
UID:4040-1619740800-1619827199@geoscience.unlv.edu
SUMMARY:2021 UNLV Geosymposium!
DESCRIPTION:Friday\, April 30th: \n9:00 AM – Opening remarks \n9:15 AM – Morning Keynote Address \n10:00 AM – Oral Presentations Session I \n11:30 AM – Break for lunch and Poster Viewing \n1:30 PM – Oral Presentations Session II \n3:00 PM – Afternoon Keynote Address \n3:45 PM – Break \n4:15 PM – Awards ceremony
URL:https://geoscience.unlv.edu/event/2021-unlv-geosymposium-2/
END:VEVENT
END:VCALENDAR