BEGIN:VCALENDAR
VERSION:2.0
PRODID:-//UNLV Geoscience - ECPv6.2.9//NONSGML v1.0//EN
CALSCALE:GREGORIAN
METHOD:PUBLISH
X-ORIGINAL-URL:https://geoscience.unlv.edu
X-WR-CALDESC:Events for UNLV Geoscience
REFRESH-INTERVAL;VALUE=DURATION:PT1H
X-Robots-Tag:noindex
X-PUBLISHED-TTL:PT1H
BEGIN:VTIMEZONE
TZID:America/Los_Angeles
BEGIN:DAYLIGHT
TZOFFSETFROM:-0800
TZOFFSETTO:-0700
TZNAME:PDT
DTSTART:20180311T100000
END:DAYLIGHT
BEGIN:STANDARD
TZOFFSETFROM:-0700
TZOFFSETTO:-0800
TZNAME:PST
DTSTART:20181104T090000
END:STANDARD
END:VTIMEZONE
BEGIN:VEVENT
DTSTART;VALUE=DATE:20180115
DTEND;VALUE=DATE:20180116
DTSTAMP:20260425T140613
CREATED:20170823T222437Z
LAST-MODIFIED:20170823T222437Z
UID:2468-1515974400-1516060799@geoscience.unlv.edu
SUMMARY:MLK day
DESCRIPTION:
URL:https://geoscience.unlv.edu/event/mlk-day/
CATEGORIES:Holidays
END:VEVENT
BEGIN:VEVENT
DTSTART;TZID=America/Los_Angeles:20180117T160000
DTEND;TZID=America/Los_Angeles:20180117T170000
DTSTAMP:20260425T140613
CREATED:20180117T231613Z
LAST-MODIFIED:20180117T232911Z
UID:2689-1516204800-1516208400@geoscience.unlv.edu
SUMMARY:Health Risks Posed by Climate Change in Arid and Semi-Arid Regions: Water Quality and Heat Waves in the Southwestern U.S.
DESCRIPTION:Erick Bandala from DRI Las Vegas
URL:https://geoscience.unlv.edu/event/health-risks-posed-by-climate-change-in-arid-and-semi-arid-regions-water-quality-and-heat-waves-in-the-southwestern-u-s/
LOCATION:LFG 102
CATEGORIES:Seminars
END:VEVENT
BEGIN:VEVENT
DTSTART;TZID=America/Los_Angeles:20180124T160000
DTEND;TZID=America/Los_Angeles:20180124T170000
DTSTAMP:20260425T140613
CREATED:20180117T231710Z
LAST-MODIFIED:20180117T231710Z
UID:2691-1516809600-1516813200@geoscience.unlv.edu
SUMMARY:Grad School Information Session for Undergraduates
DESCRIPTION:By Professors Bonde\, Hausrath\, Metcalf\, and Nicholl
URL:https://geoscience.unlv.edu/event/grad-school-information-session-for-undergraduates/
CATEGORIES:Seminars
END:VEVENT
BEGIN:VEVENT
DTSTART;TZID=America/Los_Angeles:20180131T160000
DTEND;TZID=America/Los_Angeles:20180131T170000
DTSTAMP:20260425T140613
CREATED:20180117T231817Z
LAST-MODIFIED:20180117T231817Z
UID:2693-1517414400-1517418000@geoscience.unlv.edu
SUMMARY:Lithium Mining in Nevada
DESCRIPTION:Vince Ramirez from Hangtown Energy\, Reno
URL:https://geoscience.unlv.edu/event/lithium-mining-in-nevada/
CATEGORIES:Seminars
END:VEVENT
END:VCALENDAR