BEGIN:VCALENDAR
VERSION:2.0
PRODID:-//UNLV Geoscience - ECPv6.2.9//NONSGML v1.0//EN
CALSCALE:GREGORIAN
METHOD:PUBLISH
X-ORIGINAL-URL:https://geoscience.unlv.edu
X-WR-CALDESC:Events for UNLV Geoscience
REFRESH-INTERVAL;VALUE=DURATION:PT1H
X-Robots-Tag:noindex
X-PUBLISHED-TTL:PT1H
BEGIN:VTIMEZONE
TZID:America/Los_Angeles
BEGIN:DAYLIGHT
TZOFFSETFROM:-0800
TZOFFSETTO:-0700
TZNAME:PDT
DTSTART:20170312T100000
END:DAYLIGHT
BEGIN:STANDARD
TZOFFSETFROM:-0700
TZOFFSETTO:-0800
TZNAME:PST
DTSTART:20171105T090000
END:STANDARD
END:VTIMEZONE
BEGIN:VEVENT
DTSTART;TZID=America/Los_Angeles:20171101T160000
DTEND;TZID=America/Los_Angeles:20171101T170000
DTSTAMP:20260425T211139
CREATED:20170823T220857Z
LAST-MODIFIED:20171013T035408Z
UID:2458-1509552000-1509555600@geoscience.unlv.edu
SUMMARY:Roberta Rudnick from University of California Santa Barbara
DESCRIPTION:Roberta Rudnick from University of California Santa Barbara \nhttp://guides.library.unlv.edu/Geoseminar
URL:https://geoscience.unlv.edu/event/roberta-rudnick-from-university-of-california-santa-barbara/
LOCATION:LFG 102
CATEGORIES:Seminars
END:VEVENT
BEGIN:VEVENT
DTSTART;TZID=America/Los_Angeles:20171108T160000
DTEND;TZID=America/Los_Angeles:20171108T170000
DTSTAMP:20260425T211139
CREATED:20170823T221000Z
LAST-MODIFIED:20171013T035601Z
UID:2459-1510156800-1510160400@geoscience.unlv.edu
SUMMARY:Timing of development of the Sevier fold-thrust belt from thrust-sheet cooling histories and foreland basin depositional histories: case studies from Utah-Wyoming and southern Nevada
DESCRIPTION:Michael Wells from UNLV Department of Geoscience \nhttp://guides.library.unlv.edu/Geoseminar
URL:https://geoscience.unlv.edu/event/timing-of-development-of-the-sevier-fold-thrust-belt-from-thrust-sheet-cooling-histories-and-foreland-basin-depositional-histories-case-studies-from-utah-wyoming-and-southern-nevada/
LOCATION:LFG 102
CATEGORIES:Seminars
END:VEVENT
BEGIN:VEVENT
DTSTART;VALUE=DATE:20171110
DTEND;VALUE=DATE:20171111
DTSTAMP:20260425T211139
CREATED:20170823T222216Z
LAST-MODIFIED:20170823T222216Z
UID:2467-1510272000-1510358399@geoscience.unlv.edu
SUMMARY:Veterans Day
DESCRIPTION:
URL:https://geoscience.unlv.edu/event/veterans-day/
CATEGORIES:Holidays
END:VEVENT
BEGIN:VEVENT
DTSTART;TZID=America/Los_Angeles:20171115T160000
DTEND;TZID=America/Los_Angeles:20171115T170000
DTSTAMP:20260425T211139
CREATED:20170823T221150Z
LAST-MODIFIED:20171012T231143Z
UID:2460-1510761600-1510765200@geoscience.unlv.edu
SUMMARY:Climatic\, Tectonic and Geomorphic Signatures in Eocene Strata of the North American Cordillera
DESCRIPTION:Michael Smith from NAU
URL:https://geoscience.unlv.edu/event/michael-smith-from-nau/
LOCATION:LFG 102
END:VEVENT
BEGIN:VEVENT
DTSTART;VALUE=DATE:20171122
DTEND;VALUE=DATE:20171123
DTSTAMP:20260425T211139
CREATED:20170823T221612Z
LAST-MODIFIED:20170823T221612Z
UID:2462-1511308800-1511395199@geoscience.unlv.edu
SUMMARY:No Seminar
DESCRIPTION:
URL:https://geoscience.unlv.edu/event/no-seminar/
CATEGORIES:Seminars
END:VEVENT
BEGIN:VEVENT
DTSTART;VALUE=DATE:20171123
DTEND;VALUE=DATE:20171125
DTSTAMP:20260425T211139
CREATED:20170823T222014Z
LAST-MODIFIED:20170823T222014Z
UID:2465-1511395200-1511567999@geoscience.unlv.edu
SUMMARY:Thanksgiving recess
DESCRIPTION:
URL:https://geoscience.unlv.edu/event/thanksgiving-recess-2/
CATEGORIES:Holidays
END:VEVENT
BEGIN:VEVENT
DTSTART;TZID=America/Los_Angeles:20171128T160000
DTEND;TZID=America/Los_Angeles:20171128T170000
DTSTAMP:20260425T211139
CREATED:20170823T221713Z
LAST-MODIFIED:20171013T035458Z
UID:2463-1511884800-1511888400@geoscience.unlv.edu
SUMMARY:The age of the Moon
DESCRIPTION:Melanie Barboni from UCLA \nhttp://guides.library.unlv.edu/Geoseminar
URL:https://geoscience.unlv.edu/event/melanie-barboni-from-ucla/
LOCATION:LFG 102
CATEGORIES:Seminars
END:VEVENT
END:VCALENDAR