BEGIN:VCALENDAR
VERSION:2.0
PRODID:-//UNLV Geoscience - ECPv6.2.9//NONSGML v1.0//EN
CALSCALE:GREGORIAN
METHOD:PUBLISH
X-ORIGINAL-URL:https://geoscience.unlv.edu
X-WR-CALDESC:Events for UNLV Geoscience
REFRESH-INTERVAL;VALUE=DURATION:PT1H
X-Robots-Tag:noindex
X-PUBLISHED-TTL:PT1H
BEGIN:VTIMEZONE
TZID:America/Los_Angeles
BEGIN:DAYLIGHT
TZOFFSETFROM:-0800
TZOFFSETTO:-0700
TZNAME:PDT
DTSTART:20170312T100000
END:DAYLIGHT
BEGIN:STANDARD
TZOFFSETFROM:-0700
TZOFFSETTO:-0800
TZNAME:PST
DTSTART:20171105T090000
END:STANDARD
END:VTIMEZONE
BEGIN:VEVENT
DTSTART;TZID=America/Los_Angeles:20171004T160000
DTEND;TZID=America/Los_Angeles:20171004T170000
DTSTAMP:20260425T212005
CREATED:20170823T220230Z
LAST-MODIFIED:20170823T220516Z
UID:2454-1507132800-1507136400@geoscience.unlv.edu
SUMMARY:The role of a keystone fault in triggering the complex El Mayor–Cucapah earthquake rupture
DESCRIPTION:John Fletcher from Ensenada Center for Scientific Research and Higher Education
URL:https://geoscience.unlv.edu/event/the-role-of-a-keystone-fault-in-triggering-the-complex-el-mayor-cucapah-earthquake-rupture/
LOCATION:LFG 102
CATEGORIES:Seminars
END:VEVENT
BEGIN:VEVENT
DTSTART;TZID=America/Los_Angeles:20171011T160000
DTEND;TZID=America/Los_Angeles:20171011T170000
DTSTAMP:20260425T212005
CREATED:20170823T220455Z
LAST-MODIFIED:20171006T010215Z
UID:2455-1507737600-1507741200@geoscience.unlv.edu
SUMMARY:Volatile elements and planet formation
DESCRIPTION:Stein Jacobsen from Harvard University
URL:https://geoscience.unlv.edu/event/stein-jacobsen-from-harvard-university/
LOCATION:LFG 102
CATEGORIES:Seminars
END:VEVENT
BEGIN:VEVENT
DTSTART;TZID=America/Los_Angeles:20171018T160000
DTEND;TZID=America/Los_Angeles:20171018T170000
DTSTAMP:20260425T212005
CREATED:20170823T220656Z
LAST-MODIFIED:20171013T034844Z
UID:2456-1508342400-1508346000@geoscience.unlv.edu
SUMMARY:Jim Kubicki from UTEP
DESCRIPTION:Jim Kubicki from UTEP \nhttp://guides.library.unlv.edu/Geoseminar
URL:https://geoscience.unlv.edu/event/jim-kubicki-from-utep/
CATEGORIES:Seminars
END:VEVENT
BEGIN:VEVENT
DTSTART;TZID=America/Los_Angeles:20171025T080000
DTEND;TZID=America/Los_Angeles:20171025T170000
DTSTAMP:20260425T212005
CREATED:20170823T220732Z
LAST-MODIFIED:20170823T220732Z
UID:2457-1508918400-1508950800@geoscience.unlv.edu
SUMMARY:GSA SEATTLE - NO SEMINAR
DESCRIPTION:
URL:https://geoscience.unlv.edu/event/gsa-seattle-no-seminar/
CATEGORIES:Seminars
END:VEVENT
BEGIN:VEVENT
DTSTART;VALUE=DATE:20171027
DTEND;VALUE=DATE:20171028
DTSTAMP:20260425T212005
CREATED:20170823T222111Z
LAST-MODIFIED:20170823T222111Z
UID:2466-1509062400-1509148799@geoscience.unlv.edu
SUMMARY:Nevada Day
DESCRIPTION:
URL:https://geoscience.unlv.edu/event/nevada-day/
CATEGORIES:Holidays
END:VEVENT
END:VCALENDAR