BEGIN:VCALENDAR
VERSION:2.0
PRODID:-//UNLV Geoscience - ECPv6.2.9//NONSGML v1.0//EN
CALSCALE:GREGORIAN
METHOD:PUBLISH
X-WR-CALNAME:UNLV Geoscience
X-ORIGINAL-URL:https://geoscience.unlv.edu
X-WR-CALDESC:Events for UNLV Geoscience
REFRESH-INTERVAL;VALUE=DURATION:PT1H
X-Robots-Tag:noindex
X-PUBLISHED-TTL:PT1H
BEGIN:VTIMEZONE
TZID:America/Los_Angeles
BEGIN:DAYLIGHT
TZOFFSETFROM:-0800
TZOFFSETTO:-0700
TZNAME:PDT
DTSTART:20160313T100000
END:DAYLIGHT
BEGIN:STANDARD
TZOFFSETFROM:-0700
TZOFFSETTO:-0800
TZNAME:PST
DTSTART:20161106T090000
END:STANDARD
END:VTIMEZONE
BEGIN:VEVENT
DTSTART;TZID=America/Los_Angeles:20161005T160000
DTEND;TZID=America/Los_Angeles:20161005T170000
DTSTAMP:20260424T114101
CREATED:20160817T023006Z
LAST-MODIFIED:20160907T215422Z
UID:1860-1475683200-1475686800@geoscience.unlv.edu
SUMMARY:Ancient Lacustrine Environments on Mars: The Latest Findings from the Curiosity Rover
DESCRIPTION:Dr. Liz Rampe from Johnson Space Center (NASA) – Planetary Geology
URL:https://geoscience.unlv.edu/event/1860/
LOCATION:LFG 102
CATEGORIES:Seminars
END:VEVENT
BEGIN:VEVENT
DTSTART;TZID=America/Los_Angeles:20161012T160000
DTEND;TZID=America/Los_Angeles:20161012T170000
DTSTAMP:20260424T114101
CREATED:20160817T024024Z
LAST-MODIFIED:20161006T215601Z
UID:1865-1476288000-1476291600@geoscience.unlv.edu
SUMMARY:Seminar - Dr. John Singleton
DESCRIPTION:Tectonic inheritance and the development of metamorphic core complexes in western Arizona
URL:https://geoscience.unlv.edu/event/seminar-dr-john-singleton/
LOCATION:LFG 102
CATEGORIES:Seminars
END:VEVENT
BEGIN:VEVENT
DTSTART;TZID=America/Los_Angeles:20161026T160000
DTEND;TZID=America/Los_Angeles:20161026T170000
DTSTAMP:20260424T114101
CREATED:20160817T024849Z
LAST-MODIFIED:20161025T225039Z
UID:1874-1477497600-1477501200@geoscience.unlv.edu
SUMMARY:Applications of Electron Channeling Contrast Imaging (ECCI) and Electron Backscatter Diffraction (EBSD) for Geological Materials
DESCRIPTION:Dr Shirin Kaboli – UNLV
URL:https://geoscience.unlv.edu/event/seminar-dr-shirin-kaboli-2/
LOCATION:LFG 102
CATEGORIES:Seminars
END:VEVENT
END:VCALENDAR