BEGIN:VCALENDAR
VERSION:2.0
PRODID:-//UNLV Geoscience - ECPv6.2.9//NONSGML v1.0//EN
CALSCALE:GREGORIAN
METHOD:PUBLISH
X-ORIGINAL-URL:https://geoscience.unlv.edu
X-WR-CALDESC:Events for UNLV Geoscience
REFRESH-INTERVAL;VALUE=DURATION:PT1H
X-Robots-Tag:noindex
X-PUBLISHED-TTL:PT1H
BEGIN:VTIMEZONE
TZID:America/Los_Angeles
BEGIN:DAYLIGHT
TZOFFSETFROM:-0800
TZOFFSETTO:-0700
TZNAME:PDT
DTSTART:20210314T100000
END:DAYLIGHT
BEGIN:STANDARD
TZOFFSETFROM:-0700
TZOFFSETTO:-0800
TZNAME:PST
DTSTART:20211107T090000
END:STANDARD
END:VTIMEZONE
BEGIN:VEVENT
DTSTART;VALUE=DATE:20210430
DTEND;VALUE=DATE:20210501
DTSTAMP:20260420T075707
CREATED:20210422T165934Z
LAST-MODIFIED:20210422T165934Z
UID:4040-1619740800-1619827199@geoscience.unlv.edu
SUMMARY:2021 UNLV Geosymposium!
DESCRIPTION:Friday\, April 30th: \n9:00 AM – Opening remarks \n9:15 AM – Morning Keynote Address \n10:00 AM – Oral Presentations Session I \n11:30 AM – Break for lunch and Poster Viewing \n1:30 PM – Oral Presentations Session II \n3:00 PM – Afternoon Keynote Address \n3:45 PM – Break \n4:15 PM – Awards ceremony
URL:https://geoscience.unlv.edu/event/2021-unlv-geosymposium-2/
END:VEVENT
END:VCALENDAR