BEGIN:VCALENDAR
VERSION:2.0
PRODID:-//UNLV Geoscience - ECPv6.2.9//NONSGML v1.0//EN
CALSCALE:GREGORIAN
METHOD:PUBLISH
X-WR-CALNAME:UNLV Geoscience
X-ORIGINAL-URL:https://geoscience.unlv.edu
X-WR-CALDESC:Events for UNLV Geoscience
REFRESH-INTERVAL;VALUE=DURATION:PT1H
X-Robots-Tag:noindex
X-PUBLISHED-TTL:PT1H
BEGIN:VTIMEZONE
TZID:America/Los_Angeles
BEGIN:DAYLIGHT
TZOFFSETFROM:-0800
TZOFFSETTO:-0700
TZNAME:PDT
DTSTART:20210314T100000
END:DAYLIGHT
BEGIN:STANDARD
TZOFFSETFROM:-0700
TZOFFSETTO:-0800
TZNAME:PST
DTSTART:20211107T090000
END:STANDARD
END:VTIMEZONE
BEGIN:VEVENT
DTSTART;TZID=America/Los_Angeles:20210428T160000
DTEND;TZID=America/Los_Angeles:20210428T170000
DTSTAMP:20260420T162553
CREATED:20210422T171149Z
LAST-MODIFIED:20210428T171455Z
UID:4045-1619625600-1619629200@geoscience.unlv.edu
SUMMARY:2021 Spring Seminar Series - Kevin Konrad
DESCRIPTION:Testing the Supernova Impact Hypothesis Using 3He and 60Fe in Marine Sediments \nKevin Konrad \nUniversity of Nevada Las Vegas \n 
URL:https://geoscience.unlv.edu/event/2021-spring-seminar-series-kevin-konrad/
END:VEVENT
END:VCALENDAR