BEGIN:VCALENDAR
VERSION:2.0
PRODID:-//UNLV Geoscience - ECPv6.2.9//NONSGML v1.0//EN
CALSCALE:GREGORIAN
METHOD:PUBLISH
X-ORIGINAL-URL:https://geoscience.unlv.edu
X-WR-CALDESC:Events for UNLV Geoscience
REFRESH-INTERVAL;VALUE=DURATION:PT1H
X-Robots-Tag:noindex
X-PUBLISHED-TTL:PT1H
BEGIN:VTIMEZONE
TZID:America/Los_Angeles
BEGIN:DAYLIGHT
TZOFFSETFROM:-0800
TZOFFSETTO:-0700
TZNAME:PDT
DTSTART:20200308T100000
END:DAYLIGHT
BEGIN:STANDARD
TZOFFSETFROM:-0700
TZOFFSETTO:-0800
TZNAME:PST
DTSTART:20201101T090000
END:STANDARD
END:VTIMEZONE
BEGIN:VEVENT
DTSTART;TZID=America/Los_Angeles:20201130T160000
DTEND;TZID=America/Los_Angeles:20201130T170000
DTSTAMP:20260419T061625
CREATED:20201130T213311Z
LAST-MODIFIED:20201130T213311Z
UID:3895-1606752000-1606755600@geoscience.unlv.edu
SUMMARY:Picture A Scientist virtual panel
DESCRIPTION:Picture A Scientist virtual discussion panel happening on November 30th\, 2020 at 4pm
URL:https://geoscience.unlv.edu/event/picture-a-scientist-virtual-panel/
END:VEVENT
END:VCALENDAR