BEGIN:VCALENDAR
VERSION:2.0
PRODID:-//UNLV Geoscience - ECPv6.2.9//NONSGML v1.0//EN
CALSCALE:GREGORIAN
METHOD:PUBLISH
X-WR-CALNAME:UNLV Geoscience
X-ORIGINAL-URL:https://geoscience.unlv.edu
X-WR-CALDESC:Events for UNLV Geoscience
REFRESH-INTERVAL;VALUE=DURATION:PT1H
X-Robots-Tag:noindex
X-PUBLISHED-TTL:PT1H
BEGIN:VTIMEZONE
TZID:America/Los_Angeles
BEGIN:DAYLIGHT
TZOFFSETFROM:-0800
TZOFFSETTO:-0700
TZNAME:PDT
DTSTART:20200308T100000
END:DAYLIGHT
BEGIN:STANDARD
TZOFFSETFROM:-0700
TZOFFSETTO:-0800
TZNAME:PST
DTSTART:20201101T090000
END:STANDARD
END:VTIMEZONE
BEGIN:VEVENT
DTSTART;TZID=America/Los_Angeles:20200311T160000
DTEND;TZID=America/Los_Angeles:20200311T170000
DTSTAMP:20260420T040321
CREATED:20200305T231743Z
LAST-MODIFIED:20200305T231743Z
UID:3643-1583942400-1583946000@geoscience.unlv.edu
SUMMARY:Careers for Students in Applied Geology: Options to Consider
DESCRIPTION:
URL:https://geoscience.unlv.edu/event/careers-for-students-in-applied-geology-options-to-consider/
CATEGORIES:Seminars
END:VEVENT
END:VCALENDAR